BEGIN:VCALENDAR
PRODID:-//Det Danske Spejderkorps//NONSGML Gruppeweb//EN
VERSION:2.0
CALSCALE:GREGORIAN
X-PUBLISHED-TTL:PT1H
X-WR-CALNAME:Hangarounds
METHOD:PUBLISH
BEGIN:VEVENT
UID:gruppeweb.dk:1608:event:287
DTSTAMP:20260422T083751Z
LAST-MODIFIED:20250520T052834Z
SUMMARY:Oprykning 2025
DESCRIPTION:Den årlige oprykning af spejderne til de forskellige grene - f
 oregår i  \nFolkeparken\nForældre og søskende er meget velkommen\n
URL:https://lyngbyspejderne.dk/begivenhed/oprykning-2025
DTSTART:20250819T150000Z
DTEND:20250819T173000Z
LOCATION:Folkeparken
END:VEVENT
BEGIN:VEVENT
UID:gruppeweb.dk:1608:event:302
DTSTAMP:20260422T083751Z
LAST-MODIFIED:20251023T042725Z
SUMMARY:Gruppens SL26 (med spisning)
DESCRIPTION:Mødet vil foregå fysisk i kærnehuset.\n\nMødepligt for alle
  grene/afdelinger.\n\nMad serveres for tilmeldte\, inden mødet\, dvs. fra
  kl.17:45\nMødestart kl.18\n\n\nDagsorden:\n\n\n#A\n\nErfaringer fra somm
 erlejr og oprykning 2025\n\n-1 hvad gjorde vi godt og vil gøre mere af ?\
 n\n-2 hvad skal vi undgå\n\n#3 alt det vi ikke har snakket om...\n\n\n#B\
 n\nHvad / hvem gør hvad på sl26 ?\n\nVi mangler primært 2 poster. \n\n
 \n-1 Den ene der vil være ansvarlig for gruppen & deltage på de kommunal
 e SL  \nmøder der er op til lejren. \n\nHer vil kommunens 11 spejdergrup
 per deltage & man vil få viden\, som man kan  \ndele med resten af lederg
 ruppen.\n\n\n-2 Den anden (eller samme) post handler om de GL møder\, der
  uundværligt vil  \nkomme på selve lejren. \n\nDer mangler vi også en 
 eller flere til at dække disse.\n\nDenne eller disse personer vil også f
 ungere som GL\, hvis andre ting skulle  \nopstå.\n\n
URL:https://lyngbyspejderne.dk/begivenhed/gruppens-sl26-med-spisning
DTSTART:20251103T164500Z
DTEND:20251103T183000Z
LOCATION:Kgs. Lyngby Gruppe\, Engelsborgvej 50\, 2800 Kgs. Lyngby
END:VEVENT
BEGIN:VEVENT
UID:gruppeweb.dk:1608:event:301
DTSTAMP:20260422T083751Z
LAST-MODIFIED:20251210T091112Z
SUMMARY:Juleweekend 2025
DESCRIPTION:## seneste information ##\n\nKære alle spejdere og pårørende
 . \nVores juletur nærmer sig og julehyggen venter forude for vores spejd
 ere\,  \nstore som små. \n*Lørdag d. 13/12-2025*\n * Vi ser frem til at
  tage i mod nogle glade spejdere lørdag kl. 9.00\,\n   Høbjerghus\, Høb
 jerghegn 7\, 3200 Helsinge. \n * Klanspejderne har planlagt et godt progr
 am for weekenden - glæd jer\, det\n   bliver sjovt og dejligt. \n\n*Søn
 dag d. 14/12-2025*\n * Det har været nødvendigt at tilpasse søndagens p
 rogram. Det vil sige\,\n   at der desværre /ikke/ bliver fællesspisnin
 g med forældre og\n   spejdere\, som hidtil planlagt.\n * Der bliver derf
 or helt almindelig afhentning kl. 10.00\, hvor spejderne\n   naturligvis h
 ar fået morgenmad. \n * Der opfordres til at arrangere samkørsel\, hvis
  dette er muligt. \n\nVi beklager selvfølgelig\, at vi har været nødt 
 til at lave om på  \nsøndagens program. Vi er dog sikre på\, at spejder
 ne får en superdejlig  \nweekend sammen på tværs af alle aldre. \n*Lid
 t praktisk for weekenden*\n * Husk varmt tøj\, da alle aktiviteterne er f
 ortrinsvis udendørs. \n * Husk indendørs sko/skiftesko. \n * Alle sove
 r indendørs. \n\nTusinde tak for at bakke op omkring gruppens juletur\, 
 som altid ender med at  \nden rette julestemning bliver fundet frem. \n##
  oprindelig information ##\nÅrets hyggeligste gruppe weekend i julens teg
 n for hele gruppen.\n\nFor alle gruppens spejdere\, ledere og Hangarounds 
 fra 6-99 år.\nI år i Nejlingehytten ved helsinge.\n\nTransport i egne bi
 ler ud lørdag\, hjem søndag\n\nSøndag inviterer vi alle forældre og s
 øskende til brunch kl. 9 - hvor vi  \nregner med at I tager børnene med 
 retur til Lyngby.\n\nVi glæder os til at se jer alle\n\n
URL:https://lyngbyspejderne.dk/begivenhed/juleweekend-2025
DTSTART:20251213T080000Z
DTEND:20251214T100000Z
LOCATION:Høbjerghus\, Høbjerg Hegn 5\, 3200 Nejlinge
END:VEVENT
BEGIN:VEVENT
UID:gruppeweb.dk:1608:event:303
DTSTAMP:20260422T083751Z
LAST-MODIFIED:20260125T140459Z
SUMMARY:Grupperådsmøde | 2026
DESCRIPTION:Program for lyngbyspejdernes grupperådsmøde 1.februar 2026\n-
  mens der holdes møde hvor forældre\, ledere og bestyrelse deltager\, vi
 l  \nder være aktivitet for spejderne.\n- der serveres kage og drikkelse 
 som the/kaffe/vand.\nG*rupperådsmøde* er Det Danske Spejderkorps’ bete
 gnelse for gruppens  \nårlige generalforsamling. Det er her\, gruppens me
 dlemmer og forældre samles  \nfor at godkende regnskab\, budget og vælge
  bestyrelse. DDS har en række  \nformelle regler for\, hvordan mødet ska
 l afholdes\, og hvem der har stemmeret.\n\n.... ⭐ Hvad er et grupperåd?
 \n\nGrupperådet består af de fremmødte personer\, der har stemmeret.\nI
 følge DDS’ regler har:\n\n * *Alle medlemmer over 15 år* stemmeret.\n 
 * *Spejdere under 15 år* har også én stemme hver\, men den *afgives af 
 en\n   forælder*.\n * Forældre med flere børn under 15 år afgiver én 
 stemme pr. barn.\n * Stemmer kan *kun afgives ved personligt fremmøde*.\n
 \n.... ⭐ Hvad sker der på mødet?\n\nPå grupperådsmødet skal der som
  minimum:\n\n * Fremlægges *årsregnskab* til godkendelse\n * Præsentere
 s *budget* for det kommende år\, inkl. forslag til kontingent\n * Afgives
  *beretning* fra bestyrelsen\n * Vælges medlemmer til *gruppebestyrelsen*
 \n * Behandles eventuelle *indkomne forslag\n   *\n\n.... ⭐ Formålet me
 d mødet\n\nFormålet er at sikre:\n\n * Gennemsigtighed i gruppens økono
 mi\n * Demokratisk valg af bestyrelse\n * Indflydelse for både spejdere o
 g forældre\n * Et fælles forum for at drøfte gruppens udvikling og frem
 tid\n\nDDS understreger\, at grupperådsmødet er en central del af gruppe
 ns  \ndemokratiske struktur og forankret i korpsets love og regler.\n\n
URL:https://lyngbyspejderne.dk/begivenhed/grupperaadsmoede-2026
DTSTART:20260201T090000Z
DTEND:20260201T110000Z
LOCATION:Kgs. Lyngby Gruppe\, Engelsborgvej 50\, 2800 Kgs. Lyngby
END:VEVENT
BEGIN:VEVENT
UID:gruppeweb.dk:1608:event:325
DTSTAMP:20260422T083751Z
LAST-MODIFIED:20260204T165532Z
SUMMARY:GÅ-DAG 2026
DESCRIPTION:\n-------- *Så er det tid til GÅ-DAG for hele gruppen\, du ka
 n vælge at gå 5\n         - 10 - 20 - 30 eller 50 km.* -----------------
 -----------------------\n\nGÅ-DAG - Lørdag D. 21. MARTS\n\n * Kl. 8:00 i
  Kærnehuset for 30 km og 50 km\n   \n * Kl. 10:30 v. Nærum st. for 20 km
 \n   \n * Kl. 13:00 v. Hjortekær Port for 10 km (Frokost)\n   \n * Kl. 14
 .45 v. Enghavevej 2 for 5 km\n   \n\nSå er det tid til nye mærker til un
 iformen\, hele Kgs. Lyngby gruppe går  \nsammen for at få kilometermær
 ker.\n\nLederne går med på ruterne og sikre fremdrift og højt humør. 
 Så fat  \nvandrestøvlerne og sangbogen og gør klar.\n\nDer kan vælges 
 mellem forskellige distancer og forældre er velkommen hos  \nde yngre gr
 ene (familiespejd og mini)\n\nMødestederne varierer og vi har brug for hj
 ælp til forplejning og  \nopmuntring undervejs. Er det noget for dig så
  kontakt Mette på 27243770.\n\n\n*Frokosten laves traditionen tro af for
 ældre. Vi sørger derfor\, 3–4  \nforældre der har lyst til at stå fo
 r at lave og servere frokosten – og  \neventuelt også sørge for et sty
 kke kage.(Kontakt Morten hvis du har  \nmulighed for at  hjælpe med frok
 ost eller kage SMS 20913405)*\n\n*\n*\n\n*Rute og tidsplan*\n\nRuten start
 er ved Kærnehuset kl. 08.00 for 30 km- og 50 km-grupperne. Herfra  \ngår
  grupperne mod Nærum Station via stier og små veje.\n\n20 km-gruppen sta
 rter ved Nærum Station kl. 10.30.\n\nVed Hjortekær Port mødes vi med de
  spejdere\, der skal gå 10 km. Her holder  \nvi frokostpause\, som forven
 tes at ligge mellem kl. 13.00 og 13.30.\n\nEfter frokost går 10 km-gruppe
 n sammen med resten af gruppen videre til  \nEnghavevej 2\, hvor 5 km-grup
 pen støder til ca. 14.45. Herfra går hele  \ngruppen samlet tilbage mod 
 Kærnehuset.\n\n10 km-\, 20 km- og 30 km-grupperne forventes at være tilb
 age ved Kærnehuset  \nca. kl. 17.00\, hvor de kan afhentes af forældre.
  \n\n\n50 km-gruppen fortsætter herefter videre til Store Hareskov og g
 år  \nyderligere ca. 20 km. De forventes tilbage ved Kærnehuset ca. kl. 
 22.00.\n\n\nVi glæder os.\n\nLederne\n\n
URL:https://lyngbyspejderne.dk/begivenhed/gaa-dag-2026
DTSTART:20260321T070000Z
DTEND:20260321T210000Z
LOCATION:Kgs. Lyngby Gruppe\, Engelsborgvej 50\, 2800 Kgs. Lyngby
END:VEVENT
BEGIN:VEVENT
UID:gruppeweb.dk:1608:event:329
DTSTAMP:20260422T083751Z
LAST-MODIFIED:20260305T063720Z
SUMMARY:Fartøjsførerprøve til kano mandag den 20.04.26.
DESCRIPTION:======== Fartøjsførerprøve til kano mandag den 20.04.26. ===
 ===============\n\n*Kanohistorik:*\n\nVores gruppe har næsten uafbrudt si
 den 1990’erne haft kanoer\, som  \nspejderne kan sejle i.\n\nDet foregå
 r primært til møderne\, men spejderne kan faktisk låne dem selv\,  \nhv
 is de opfylder visse\n\nkriterier.\n\n*Korpsets &amp\; gruppens regler:*\n
 \nPå vores hjemmeside kan man læse de komplette regler.\n\nMen den vigti
 gste er\, at der i hver kano er en fartøjsfører.\n\n*Fartøjsfører:*\n\
 nFor at blive fartøjsfører\, skal man have bestået fartøjsførerprøve
 n.\n\n*Ikke fartøjsfører:*\n\nHar man ikke taget fartøjsførerprøven\,
  skal man som min. kunne svømme 200  \nm &amp\; så må man\n\nsejle med 
 i kanoen\, hvis en eller flere af de andre deltagere er  \nfartøjsfører.
 \n\n*Fartøjsførerprøven:*\n\nFor at blive fartøjsfører skal man:\n\n
  Sidde i kanoen\, tippe kanoen\, så man falder i vandet &amp\; kanoen 
  \nkæntrer. Derefter tømme\n\nkanoen for vand på et sted\, hvor man ikk
 e kan bunde. Til sidst skal man op i  \nkanoen igen &amp\;\n\nkan sejle vi
 dere.\n\n Kunne svømme 600 m.\n\n*Flydeprøve:*\n\nKanoerne er alle fl
 ydeprøvede. Dvs. at kanoerne kan kæntre (vende om på  \nsiden &amp\; ta
 ge vand ind)\,\n\nmen de kan IKKE synke. De vil stadigvæk flyde selvom de
  er fyldt med vand.\n\n*Fuglsanggårdsskolen (Virum) Svømmehal kl. 1845-2
 100:*\n\nSelve prøven foregår i svømmehallen i den dybe ende af bassine
 t med  \nredningsvest på.\n\nAdressen er Askevænget 10\, 2830 Virum inde
  i skolegården foran  \nsvømmehallen.\n\nJeres spejdere bedes have mobil
 telefoner med\, da vi måske slutter før kl.  \n2100 &amp\; i så fald sk
 al\n\nhentes før.\n\n*Tilmeldinger:*\n\nAlle spejdere fra junior til trop
  og klan samt forældre\, der gerne vil låne  \nen kano en sommerdag\, er
 \n\nvelkomne til at deltage.\n\nDog kan der være pladsmangel\, så vi bli
 ver nødt til at prioritere.\n\nDerfor skal i tilmelde jer som flg.:\n\n 1
 ) Juniorer med eller uden fartøjsførerprøve.\n    \n 2) Trop\, klan\; f
 orældre uden fartøjsførerprøve.\n    \n 3) Trop\; klan med fartøjsfø
 rerprøve (hvis man gerne vil have den\n    genopfrisket).\n    \n\n
URL:https://lyngbyspejderne.dk/begivenhed/fartoejsfoererproeve-til-kano-man
 dag-den-200426
DTSTART:20260420T164500Z
DTEND:20260420T190000Z
LOCATION:Fuglsanggårdsskolen. Askevænget 10 2830 Virum
END:VEVENT
BEGIN:VEVENT
UID:gruppeweb.dk:1608:event:341
DTSTAMP:20260422T083751Z
LAST-MODIFIED:20260421T181807Z
SUMMARY:Hoveri/arbejds-dag (giv en hånd med Kærnehuset)
DESCRIPTION:\n
URL:https://lyngbyspejderne.dk/begivenhed/hoveriarbejds-dag-giv-en-haand-me
 d-kaernehuset
DTSTART:20260426T080000Z
DTEND:20260426T120000Z
LOCATION:Kgs. Lyngby Gruppe\, Engelsborgvej 50\, 2800 Kgs. Lyngby
END:VEVENT
BEGIN:VEVENT
UID:gruppeweb.dk:1608:event:339
DTSTAMP:20260422T083751Z
LAST-MODIFIED:20260415T095630Z
SUMMARY:Sejlads tilladelse 2026
DESCRIPTION:*Bestemmelser\nfor sejlads med kanoer i Kgs. Lyngby Gruppe*\n\n
 \n\n*1: Sejlsæson:*\n\n\n\n1.1 Sejlsæsonen er fra 1.maj til 1. oktober\n
 \n\n\n1.2 Det er kun tilladt at sejle i sæsonen.\n\n\n\n \n\n*2: Reserva
 tion:*\n\n\n\n2.1 Reservation af kanoer sker til gruppens sø-kyndige medl
 em Lars H. Jensen  \npå 21 67 61 21 eller mail [1]\n\n\n\n2.2 Nøglen til
  hængelåsen til kanoerne på\nkanotraileren er samme nøgle som til Kær
 nehuset.\n\n\n\n \n\n*3: Alder\, sikkerhed & fartøjsførere:*\n\n\n\n3.1
  Der skal ALTID kontaktes en person på over\n18 år på land inden afrejs
 e med forventet hjemkomst tidspunkt & ved aktuel\nhjemkomst. Dette kan ske
  telefonisk\, på sms eller lign. Det er  \nkontaktpersonens\nansvar at re
 agere hvis de aftalte tider ikke overholdes.\n\n\n\n3.2 Hver kano skal som
  min. have 1\nfartøjsfører. Se punkt 7.\n\n\n\n3.3 En leder (der er fart
 øjsfører) skal\ndeltage på turen\, hvis ikke hver kano\, har en fartøj
 sfører på min. 14  \når.\n\n\n\n3.4 Deltagere under 18 år\, skal have 
 forældres\neller værgers skriftlige tilladelse gældende for en sæson.\
 n\n\n\n \n\n*4: Forberedende sikkerhed:*\n\n\n\n4.1 Hvert år i april-maj
  gennemføres en\nkæntringsøvelse & 600 m svømmeprøve til især nye fa
 rtøjsførere.  \nPersoner\nder tidligere har bestået prøven\, er velkom
 ne til at deltage igen. Bemærk\,  \nat\nforældre der ønsker at låne ka
 noer\, ligeledes skal have deltaget i et  \nsådant\nkursus.\n\n\n\n4.2 Ko
 ntroller den lokale vejrudsigt &\naflys sejladsen\, hvis vejret er for då
 rligt & vinden er for hård.\n\n\n\n \n\n*5: Sikkerhed & opførsel på va
 ndet:*\n\n\n\n5.1 Der må ikke foretages sejladser\, hvor kun\n1 person de
 ltager.\n\n\n\n5.2 Alle deltagere skal under sejladsen\, være\niført god
 kendt redningsvest. Ikke svømmevest.\n\n\n\n5.3 Der må kun sejles i dagt
 imerne.\n\n\n\n5.4 Ved sejlads på de store søer som Furesø\,\nArresø &
  Esrum Sø\, holdes en sikkerhedsafstand på max. 500 m fra kysten.\n\n\n\
 n5.5 Respekter naturen\, miljøet & andre\nmennesker på vandet. Tag affal
 d med hjem & pas på flora & fauna.\n\n\n\n5.6 Rusmidler\, herunder øl\, 
 vin og anden\nalkohol\, må ikke nydes før og under sejlads med gruppens 
 kanoer.\n\n\n\n * *\n\n*6: Kanoerne:*\n\n\n\n6.1 Antallet af personer i 
 en kano\, må ikke\noverstige hvad kanoen er godkendt til.\n\n\n\n6.2 Der 
 skal være mindst 3 m fortøjningsline\nfastgjort til kanoen.\n\n\n\n6.3 D
 er skal være en paddel pr. deltager.\n\n\n\n6.4 Der skal være en fastmon
 teret pøse pr. kano.\n\n\n\n6.5 Efter endt tur skal kanoerne låses fast\
 ntil anhængeren & udstyr stilles på plads. Evt. fejl & mangler meddeles\
 ntil det sø-kyndige medlem.\n\n\n\n* *\n\n*7: Fartøjsførere:*\n\n\n\n7
 .1   Disse skal kunne svømme min. 600 m.\n\n\n\n7.2 Disse skal have for
 etaget regelmæssig øvelse\naf kæntring & bjærgning af kano.\n\n\n\n* 
 *\n\n*8: Besætningsmedlemmer som ikke er\nfartøjsførere:*\n\n\n\n8.1 Di
 sse skal kunne svømme min. 200 m. Dette\nudelukker altså mindre børn\, 
 der ikke kan svømme.\n\n\n\n* *\n\n*9: Sejlads under godkendte\nspejdera
 rrangementer:*\n\n\n\n\n9.1 Ved deltagelse af sejlads under godkendte\nspe
 jderarrangementer\, er det arrangementets betingelser & regler\, der gør\
 nsig gældende & ikke gruppens.\n\n\n\n\n[1] mailto:kano@lyngbyspejderne.d
 k\n
URL:https://lyngbyspejderne.dk/begivenhed/sejlads-tilladelse-2026
DTSTART:20261001T073200Z
DTEND:20261001T073200Z
LOCATION:Kgs. Lyngby Gruppe\, Engelsborgvej 50\, 2800 Kgs. Lyngby
END:VEVENT
BEGIN:VEVENT
UID:gruppeweb.dk:1608:event:317
DTSTAMP:20260422T083751Z
LAST-MODIFIED:20251228T164001Z
SUMMARY:Juleweekend
DESCRIPTION:\n\n
URL:https://lyngbyspejderne.dk/begivenhed/juleweekend
DTSTART:20261127T150000Z
DTEND:20261129T110000Z
LOCATION:Høbjerghus\, Høbjerg Hegn 5\, 3200 Nejlinge
END:VEVENT
END:VCALENDAR
